BEGIN:VCALENDAR
VERSION:2.0
PRODID:-//Tukios.com/
BEGIN:VEVENT
UID:fe906e7c-8c7a-466a-b5e2-d930034610b4@www.watkinsfuneralhomeinc.com
DTSTAMP:20260424T182919Z
DTSTART:20260504T150000Z
DTEND:20260504T160000Z
SUMMARY:Celebration of Life
DESCRIPTION:
URL:https://www.watkinsfuneralhomeinc.com/obituaries/jonathan-hurley
LOCATION:Grace Baptist Church 2178 Georgia 138  Stockbridge GA 30281
GEO:33.58029;-84.1615622
END:VEVENT
END:VCALENDAR