BEGIN:VCALENDAR
VERSION:2.0
PRODID:-//Tukios.com/
BEGIN:VEVENT
UID:637e3446-138d-4a95-9a0c-d7764ed6b1f0@www.watkinsfuneralhomeinc.com
DTSTAMP:20260424T182703Z
DTSTART:20260504T140000Z
DTEND:20260504T150000Z
SUMMARY:Viewing
DESCRIPTION:
URL:https://www.watkinsfuneralhomeinc.com/obituaries/jonathan-hurley
LOCATION:Grace Baptist Church 2178 GA-138  Stockbridge GA 30281
GEO:33.58029;-84.1615622
END:VEVENT
END:VCALENDAR