BEGIN:VCALENDAR
VERSION:2.0
PRODID:-//Tukios.com/
BEGIN:VEVENT
UID:f81ce05f-37c8-444c-9d7d-13db3ae514fd@www.watkinsfuneralhomeinc.com
DTSTAMP:20260421T204101Z
DTSTART:20260425T170000Z
DTEND:20260425T180000Z
SUMMARY:Celebration of Life
DESCRIPTION:
URL:https://www.watkinsfuneralhomeinc.com/obituaries/laura-washington
LOCATION:Hattie G. Watkins Memorial Chapel 163 North Avenue  Jonesboro GA 
	30236
GEO:33.5311279;-84.3609848
END:VEVENT
END:VCALENDAR