BEGIN:VCALENDAR
VERSION:2.0
PRODID:-//Tukios.com/
BEGIN:VEVENT
UID:548a9558-8fe4-4163-a9ea-fe60bce5f00f@www.watkinsfuneralhomeinc.com
DTSTAMP:20260421T204517Z
DTSTART:20260425T150000Z
DTEND:20260425T160000Z
SUMMARY:Memorial Service
DESCRIPTION:
URL:https://www.watkinsfuneralhomeinc.com/obituaries/sharon-jones
LOCATION:Greater Works Missionary Baptist Church 295 Morrow Road  Forest 
	Park GA 30297
GEO:33.5912187;-84.380513
END:VEVENT
END:VCALENDAR